BEGIN:VCALENDAR
VERSION:2.0
PRODID:-//IBUS - International Bowel Ultrasound Group - ECPv6.15.15//NONSGML v1.0//EN
CALSCALE:GREGORIAN
METHOD:PUBLISH
X-WR-CALNAME:IBUS - International Bowel Ultrasound Group
X-ORIGINAL-URL:https://ibus-group.org
X-WR-CALDESC:Events for IBUS - International Bowel Ultrasound Group
REFRESH-INTERVAL;VALUE=DURATION:PT1H
X-Robots-Tag:noindex
X-PUBLISHED-TTL:PT1H
BEGIN:VTIMEZONE
TZID:Europe/Berlin
BEGIN:DAYLIGHT
TZOFFSETFROM:+0100
TZOFFSETTO:+0200
TZNAME:CEST
DTSTART:20250330T010000
END:DAYLIGHT
BEGIN:STANDARD
TZOFFSETFROM:+0200
TZOFFSETTO:+0100
TZNAME:CET
DTSTART:20251026T010000
END:STANDARD
BEGIN:DAYLIGHT
TZOFFSETFROM:+0100
TZOFFSETTO:+0200
TZNAME:CEST
DTSTART:20260329T010000
END:DAYLIGHT
BEGIN:STANDARD
TZOFFSETFROM:+0200
TZOFFSETTO:+0100
TZNAME:CET
DTSTART:20261025T010000
END:STANDARD
BEGIN:DAYLIGHT
TZOFFSETFROM:+0100
TZOFFSETTO:+0200
TZNAME:CEST
DTSTART:20270328T010000
END:DAYLIGHT
BEGIN:STANDARD
TZOFFSETFROM:+0200
TZOFFSETTO:+0100
TZNAME:CET
DTSTART:20271031T010000
END:STANDARD
BEGIN:DAYLIGHT
TZOFFSETFROM:+0100
TZOFFSETTO:+0200
TZNAME:CEST
DTSTART:20280326T010000
END:DAYLIGHT
BEGIN:STANDARD
TZOFFSETFROM:+0200
TZOFFSETTO:+0100
TZNAME:CET
DTSTART:20281029T010000
END:STANDARD
END:VTIMEZONE
BEGIN:VTIMEZONE
TZID:Asia/Kuala_Lumpur
BEGIN:STANDARD
TZOFFSETFROM:+0800
TZOFFSETTO:+0800
TZNAME:+08
DTSTART:20250101T000000
END:STANDARD
END:VTIMEZONE
BEGIN:VTIMEZONE
TZID:America/Los_Angeles
BEGIN:DAYLIGHT
TZOFFSETFROM:-0800
TZOFFSETTO:-0700
TZNAME:PDT
DTSTART:20250309T100000
END:DAYLIGHT
BEGIN:STANDARD
TZOFFSETFROM:-0700
TZOFFSETTO:-0800
TZNAME:PST
DTSTART:20251102T090000
END:STANDARD
BEGIN:DAYLIGHT
TZOFFSETFROM:-0800
TZOFFSETTO:-0700
TZNAME:PDT
DTSTART:20260308T100000
END:DAYLIGHT
BEGIN:STANDARD
TZOFFSETFROM:-0700
TZOFFSETTO:-0800
TZNAME:PST
DTSTART:20261101T090000
END:STANDARD
BEGIN:DAYLIGHT
TZOFFSETFROM:-0800
TZOFFSETTO:-0700
TZNAME:PDT
DTSTART:20270314T100000
END:DAYLIGHT
BEGIN:STANDARD
TZOFFSETFROM:-0700
TZOFFSETTO:-0800
TZNAME:PST
DTSTART:20271107T090000
END:STANDARD
END:VTIMEZONE
BEGIN:VEVENT
DTSTART;VALUE=DATE:20260929
DTEND;VALUE=DATE:20261001
DTSTAMP:20260425T174045
CREATED:20260216T134506Z
LAST-MODIFIED:20260402T084351Z
UID:8280-1790640000-1790812799@ibus-group.org
SUMMARY:IBUS Regional Hybrid Module 1 Workshop Amsterdam\, The Netherlands - September 29th - 30th\, 2026
DESCRIPTION:IBUS Global Summit:	\n\n			Non-Invasive Monitoring in IBD	\n\n\n	\n\n\n			\n	\n\n	\n		\n	\n\n\n	\n						\n		\n\n			\n	\n	Date & Time:\nJune 1st - 2nd\, 2027\nExact timings to follow. \n\n\n	Location:\n\n\nQuadrivium\nCelestijnenlaan 200H\nKU\, Leuven\nBelgium\n\n\n\n\n	\n\n\nSave the date!\nIBUS is organizing its first International Conference on Intestinal Ultrasound & Non-Invasive Monitoring in Inflammatory Bowel Disease which will be held on June 1st – 2nd\, 2027 in Leuven\, Belgium. Stay tuned for further updates. \n 
URL:https://ibus-group.org/event/workshop-amsterdam-2026/
CATEGORIES:Events,Module 1
ATTACH;FMTTYPE=image/jpeg:https://ibus-group.org/wp-content/uploads/2021/03/amsterdam-nl.jpg
END:VEVENT
BEGIN:VEVENT
DTSTART;TZID=Asia/Kuala_Lumpur:20261002T080000
DTEND;TZID=Asia/Kuala_Lumpur:20261003T130000
DTSTAMP:20260425T174045
CREATED:20251219T151814Z
LAST-MODIFIED:20260407T081528Z
UID:7629-1790928000-1791032400@ibus-group.org
SUMMARY:IBUS Hybrid Module 1 Workshop Kuala Lumpur\, Malaysia - October 2nd - 3rd\, 2026
DESCRIPTION:IBUS Global Summit:	\n\n			Non-Invasive Monitoring in IBD	\n\n\n	\n\n\n			\n	\n\n	\n		\n	\n\n\n	\n						\n		\n\n			\n	\n	Date & Time:\nJune 1st - 2nd\, 2027\nExact timings to follow. \n\n\n	Location:\n\n\nQuadrivium\nCelestijnenlaan 200H\nKU\, Leuven\nBelgium\n\n\n\n\n	\n\n\nSave the date!\nIBUS is organizing its first International Conference on Intestinal Ultrasound & Non-Invasive Monitoring in Inflammatory Bowel Disease which will be held on June 1st – 2nd\, 2027 in Leuven\, Belgium. Stay tuned for further updates. \n 
URL:https://ibus-group.org/event/workshop-kuala-lumpur-2026/
CATEGORIES:Module 1
ATTACH;FMTTYPE=image/jpeg:https://ibus-group.org/wp-content/uploads/2025/12/Kuala-Lumpur-1-scaled.jpg
END:VEVENT
BEGIN:VEVENT
DTSTART;VALUE=DATE:20261009
DTEND;VALUE=DATE:20261010
DTSTAMP:20260425T174045
CREATED:20260319T101858Z
LAST-MODIFIED:20260319T103357Z
UID:8566-1791504000-1791590399@ibus-group.org
SUMMARY:IBUS Advanced Ultrasound Workshop\, Module 3 – Virtual - October 9th\, 2026
DESCRIPTION:IBUS Global Summit:	\n\n			Non-Invasive Monitoring in IBD	\n\n\n	\n\n\n			\n	\n\n	\n		\n	\n\n\n	\n						\n		\n\n			\n	\n	Date & Time:\nJune 1st - 2nd\, 2027\nExact timings to follow. \n\n\n	Location:\n\n\nQuadrivium\nCelestijnenlaan 200H\nKU\, Leuven\nBelgium\n\n\n\n\n	\n\n\nSave the date!\nIBUS is organizing its first International Conference on Intestinal Ultrasound & Non-Invasive Monitoring in Inflammatory Bowel Disease which will be held on June 1st – 2nd\, 2027 in Leuven\, Belgium. Stay tuned for further updates. \n 
URL:https://ibus-group.org/event/module-3-virtual-2026/
LOCATION:Online Workshop
CATEGORIES:Module 3
ATTACH;FMTTYPE=image/jpeg:https://ibus-group.org/wp-content/uploads/2021/06/online-working.jpg
END:VEVENT
BEGIN:VEVENT
DTSTART;VALUE=DATE:20261106
DTEND;VALUE=DATE:20261108
DTSTAMP:20260425T174045
CREATED:20260129T153812Z
LAST-MODIFIED:20260413T160647Z
UID:8056-1793923200-1794095999@ibus-group.org
SUMMARY:IBUS ASGE Hybrid Module 1 Workshop Downers Grove\, Illinois\, USA - November 6th - 7th\, 2026
DESCRIPTION:IBUS Global Summit:	\n\n			Non-Invasive Monitoring in IBD	\n\n\n	\n\n\n			\n	\n\n	\n		\n	\n\n\n	\n						\n		\n\n			\n	\n	Date & Time:\nJune 1st - 2nd\, 2027\nExact timings to follow. \n\n\n	Location:\n\n\nQuadrivium\nCelestijnenlaan 200H\nKU\, Leuven\nBelgium\n\n\n\n\n	\n\n\nSave the date!\nIBUS is organizing its first International Conference on Intestinal Ultrasound & Non-Invasive Monitoring in Inflammatory Bowel Disease which will be held on June 1st – 2nd\, 2027 in Leuven\, Belgium. Stay tuned for further updates. \n 
URL:https://ibus-group.org/event/ibus-asge-hybrid-module-1-workshop-2026/
CATEGORIES:Module 1
ATTACH;FMTTYPE=image/jpeg:https://ibus-group.org/wp-content/uploads/2026/03/IMG_9762-scaled.jpg
END:VEVENT
BEGIN:VEVENT
DTSTART;VALUE=DATE:20261126
DTEND;VALUE=DATE:20261128
DTSTAMP:20260425T174045
CREATED:20251210T161655Z
LAST-MODIFIED:20260226T100418Z
UID:7560-1795651200-1795823999@ibus-group.org
SUMMARY:IBUS Hybrid Module 1 / IBUSXP Workshop - Paris\, France - November 26th - 27th\, 2026
DESCRIPTION:IBUS Global Summit:	\n\n			Non-Invasive Monitoring in IBD	\n\n\n	\n\n\n			\n	\n\n	\n		\n	\n\n\n	\n						\n		\n\n			\n	\n	Date & Time:\nJune 1st - 2nd\, 2027\nExact timings to follow. \n\n\n	Location:\n\n\nQuadrivium\nCelestijnenlaan 200H\nKU\, Leuven\nBelgium\n\n\n\n\n	\n\n\nSave the date!\nIBUS is organizing its first International Conference on Intestinal Ultrasound & Non-Invasive Monitoring in Inflammatory Bowel Disease which will be held on June 1st – 2nd\, 2027 in Leuven\, Belgium. Stay tuned for further updates. \n 
URL:https://ibus-group.org/event/workshop-paris-2026/
CATEGORIES:Events,IBUSXP,Module 1
ATTACH;FMTTYPE=image/jpeg:https://ibus-group.org/wp-content/uploads/2025/12/pexels-gustavorpolo-7684045-scaled.jpg
END:VEVENT
BEGIN:VEVENT
DTSTART;VALUE=DATE:20270601
DTEND;VALUE=DATE:20270603
DTSTAMP:20260425T174045
CREATED:20260219T150206Z
LAST-MODIFIED:20260310T092241Z
UID:8294-1811808000-1811980799@ibus-group.org
SUMMARY:IBUS Global Summit - Leuven\, Belgium - June 1st -2nd\, 2027
DESCRIPTION:IBUS Global Summit:	\n\n			Non-Invasive Monitoring in IBD	\n\n\n	\n\n\n			\n	\n\n	\n		\n	\n\n\n	\n						\n		\n\n			\n	\n	Date & Time:\nJune 1st - 2nd\, 2027\nExact timings to follow. \n\n\n	Location:\n\n\nQuadrivium\nCelestijnenlaan 200H\nKU\, Leuven\nBelgium\n\n\n\n\n	\n\n\nSave the date!\nIBUS is organizing its first International Conference on Intestinal Ultrasound & Non-Invasive Monitoring in Inflammatory Bowel Disease which will be held on June 1st – 2nd\, 2027 in Leuven\, Belgium. Stay tuned for further updates. \n 
URL:https://ibus-group.org/event/intestinal-ultrasound-congress/
END:VEVENT
END:VCALENDAR