BEGIN:VCALENDAR
VERSION:2.0
PRODID:-//IBUS - International Bowel Ultrasound Group - ECPv6.15.15//NONSGML v1.0//EN
CALSCALE:GREGORIAN
METHOD:PUBLISH
X-ORIGINAL-URL:https://ibus-group.org
X-WR-CALDESC:Events for IBUS - International Bowel Ultrasound Group
REFRESH-INTERVAL;VALUE=DURATION:PT1H
X-Robots-Tag:noindex
X-PUBLISHED-TTL:PT1H
BEGIN:VTIMEZONE
TZID:Europe/Berlin
BEGIN:DAYLIGHT
TZOFFSETFROM:+0100
TZOFFSETTO:+0200
TZNAME:CEST
DTSTART:20250330T010000
END:DAYLIGHT
BEGIN:STANDARD
TZOFFSETFROM:+0200
TZOFFSETTO:+0100
TZNAME:CET
DTSTART:20251026T010000
END:STANDARD
BEGIN:DAYLIGHT
TZOFFSETFROM:+0100
TZOFFSETTO:+0200
TZNAME:CEST
DTSTART:20260329T010000
END:DAYLIGHT
BEGIN:STANDARD
TZOFFSETFROM:+0200
TZOFFSETTO:+0100
TZNAME:CET
DTSTART:20261025T010000
END:STANDARD
BEGIN:DAYLIGHT
TZOFFSETFROM:+0100
TZOFFSETTO:+0200
TZNAME:CEST
DTSTART:20270328T010000
END:DAYLIGHT
BEGIN:STANDARD
TZOFFSETFROM:+0200
TZOFFSETTO:+0100
TZNAME:CET
DTSTART:20271031T010000
END:STANDARD
END:VTIMEZONE
BEGIN:VEVENT
DTSTART;VALUE=DATE:20260601
DTEND;VALUE=DATE:20260602
DTSTAMP:20260421T140440
CREATED:20260311T132019Z
LAST-MODIFIED:20260401T132136Z
UID:8493-1780272000-1780358399@ibus-group.org
SUMMARY:IBUS SciCom Webinar June\, 2026 - Advancing IUS Research: ECCO-IBUS Grant Awardees Showcase
DESCRIPTION:Please join us for a special 90-minute edition of IUS Monthly on Tuesday\, April 14th from 8pm-9:30pm EST (New York\, NY): IUS Monthly – iUSCAN Conference Highlights: ECCO 2026 \nThis will be a fantastic learning opportunity and will showcase the tremendous effort of over 20 contributing physicians. \nThe content will be presented by:​ \n• Noa Cleveland\, MD | Co-founder and President of iUSCAN | University of Chicag \n• Cathy Lu\, MD | Chief Scientific Officer of iUSCAN | University of Calgary \n• Jeffrey Jacobs\, MD | Vice Chair of iUSCAN Education Committee | University of Washington \nIf you have any questions\, please feel free to reach out to workshops@bowel-ultrasound.org
URL:https://ibus-group.org/event/ibus-scicom-webinar-june-2026/
CATEGORIES:Webinars
ATTACH;FMTTYPE=image/jpeg:https://ibus-group.org/wp-content/uploads/2026/03/webinars_2.jpg
END:VEVENT
END:VCALENDAR